BEGIN:VCALENDAR
VERSION:2.0
PRODID:-//NADI Parit - ECPv6.15.13.1//NONSGML v1.0//EN
CALSCALE:GREGORIAN
METHOD:PUBLISH
X-ORIGINAL-URL:https://parit.nadi.my
X-WR-CALDESC:Events for NADI Parit
REFRESH-INTERVAL;VALUE=DURATION:PT1H
X-Robots-Tag:noindex
X-PUBLISHED-TTL:PT1H
BEGIN:VTIMEZONE
TZID:Asia/Kuala_Lumpur
BEGIN:STANDARD
TZOFFSETFROM:+0800
TZOFFSETTO:+0800
TZNAME:+08
DTSTART:20240101T000000
END:STANDARD
END:VTIMEZONE
BEGIN:VEVENT
DTSTART;TZID=Asia/Kuala_Lumpur:20260422T110000
DTEND;TZID=Asia/Kuala_Lumpur:20260422T120000
DTSTAMP:20260426T052119
CREATED:20260415T021817Z
LAST-MODIFIED:20260415T021928Z
UID:4041-1776855600-1776859200@parit.nadi.my
SUMMARY:KELAS SLS MAHIR JAHIT: POUCH BAG & COASTER FABRIK
DESCRIPTION:
URL:https://parit.nadi.my/event/sls-mahir-untuk-april-q2-2026/
END:VEVENT
BEGIN:VEVENT
DTSTART;TZID=Asia/Kuala_Lumpur:20260418T143000
DTEND;TZID=Asia/Kuala_Lumpur:20260418T163000
DTSTAMP:20260426T052119
CREATED:20260415T015613Z
LAST-MODIFIED:20260415T015613Z
UID:4039-1776522600-1776529800@parit.nadi.my
SUMMARY:WEBINAR BERKALA BAHASA MELAYU - EDISI 6 : TATABAHASA PENULISAN KARANGAN
DESCRIPTION:
URL:https://parit.nadi.my/event/webinar-berkala-bahasa-melayu-edisi-6-tatabahasa-penulisan-karangan/
END:VEVENT
BEGIN:VEVENT
DTSTART;TZID=Asia/Kuala_Lumpur:20260415T153000
DTEND;TZID=Asia/Kuala_Lumpur:20260415T163000
DTSTAMP:20260426T052119
CREATED:20260415T015427Z
LAST-MODIFIED:20260415T015427Z
UID:4035-1776267000-1776270600@parit.nadi.my
SUMMARY:WEBINAR CARA PILIH MASA DEPAN LEPAS SPM TANPA MENYESAL (KHAS UNTUK PESERTA GUIDANCE TUITION TINGKATAN 5 2025)
DESCRIPTION:
URL:https://parit.nadi.my/event/webinar-cara-pilih-masa-depan-lepas-spm-tanpa-menyesal-khas-untuk-peserta-guidance-tuition-tingkatan-5-2025/
END:VEVENT
BEGIN:VEVENT
DTSTART;TZID=Asia/Kuala_Lumpur:20260409T153000
DTEND;TZID=Asia/Kuala_Lumpur:20260409T163000
DTSTAMP:20260426T052119
CREATED:20260408T235235Z
LAST-MODIFIED:20260408T235235Z
UID:4032-1775748600-1775752200@parit.nadi.my
SUMMARY:WEBINAR CARA BAGAIMANA MENJAGA KESELAMATAN CCTV DAN WIFI RUMAH ANDA DARI DIGODAM
DESCRIPTION:
URL:https://parit.nadi.my/event/webinar-cara-bagaimana-menjaga-keselamatan-cctv-dan-wifi-rumah-anda-dari-digodam/
END:VEVENT
BEGIN:VEVENT
DTSTART;TZID=Asia/Kuala_Lumpur:20260331T100000
DTEND;TZID=Asia/Kuala_Lumpur:20260331T110000
DTSTAMP:20260426T052119
CREATED:20260329T085908Z
LAST-MODIFIED:20260329T085908Z
UID:4014-1774951200-1774954800@parit.nadi.my
SUMMARY:AI UNTUK MENCIPTA KANDUNGAN
DESCRIPTION:
URL:https://parit.nadi.my/event/ai-untuk-mencipta-kandungan/
END:VEVENT
BEGIN:VEVENT
DTSTART;TZID=Asia/Kuala_Lumpur:20260330T143000
DTEND;TZID=Asia/Kuala_Lumpur:20260330T153000
DTSTAMP:20260426T052119
CREATED:20260329T085742Z
LAST-MODIFIED:20260329T085742Z
UID:4012-1774881000-1774884600@parit.nadi.my
SUMMARY:ASAS VISUAL KOMUNIKASI
DESCRIPTION:
URL:https://parit.nadi.my/event/asas-visual-komunikasi/
END:VEVENT
BEGIN:VEVENT
DTSTART;TZID=Asia/Kuala_Lumpur:20260330T100000
DTEND;TZID=Asia/Kuala_Lumpur:20260330T110000
DTSTAMP:20260426T052119
CREATED:20260329T085704Z
LAST-MODIFIED:20260329T085704Z
UID:4010-1774864800-1774868400@parit.nadi.my
SUMMARY:STRATEGI PEMASARAN DIGITAL
DESCRIPTION:
URL:https://parit.nadi.my/event/strategi-pemasaran-digital-2/
END:VEVENT
BEGIN:VEVENT
DTSTART;TZID=Asia/Kuala_Lumpur:20260131T143000
DTEND;TZID=Asia/Kuala_Lumpur:20260131T163000
DTSTAMP:20260426T052119
CREATED:20260128T011348Z
LAST-MODIFIED:20260128T011348Z
UID:3899-1769869800-1769877000@parit.nadi.my
SUMMARY:WEBINAR BERKALA BAHASA INGGERIS EDISI 7
DESCRIPTION:
URL:https://parit.nadi.my/event/webinar-berkala-bahasa-inggeris-edisi-7/
END:VEVENT
BEGIN:VEVENT
DTSTART;TZID=Asia/Kuala_Lumpur:20260129T150000
DTEND;TZID=Asia/Kuala_Lumpur:20260129T163000
DTSTAMP:20260426T052119
CREATED:20260128T010608Z
LAST-MODIFIED:20260128T010608Z
UID:3897-1769698800-1769704200@parit.nadi.my
SUMMARY:WEBINAR CARA MENANGANI ANCAMAN SIBER
DESCRIPTION:
URL:https://parit.nadi.my/event/webinar-cara-menangani-ancaman-siber/
END:VEVENT
BEGIN:VEVENT
DTSTART;TZID=Asia/Kuala_Lumpur:20260128T093000
DTEND;TZID=Asia/Kuala_Lumpur:20260128T110000
DTSTAMP:20260426T052119
CREATED:20260128T024753Z
LAST-MODIFIED:20260128T024753Z
UID:3906-1769592600-1769598000@parit.nadi.my
SUMMARY:KELAS BAIKI GADGET M3
DESCRIPTION:
URL:https://parit.nadi.my/event/kelas-baiki-gadget-m3/
END:VEVENT
BEGIN:VEVENT
DTSTART;TZID=Asia/Kuala_Lumpur:20260128T093000
DTEND;TZID=Asia/Kuala_Lumpur:20260128T110000
DTSTAMP:20260426T052119
CREATED:20260128T011615Z
LAST-MODIFIED:20260128T023427Z
UID:3902-1769592600-1769598000@parit.nadi.my
SUMMARY:KELAS BAIKI GADGET M3
DESCRIPTION:
URL:https://parit.nadi.my/event/kelas-mahir-masak-m3/
END:VEVENT
BEGIN:VEVENT
DTSTART;TZID=Asia/Kuala_Lumpur:20251218T153000
DTEND;TZID=Asia/Kuala_Lumpur:20251218T163000
DTSTAMP:20260426T052119
CREATED:20251218T062634Z
LAST-MODIFIED:20251218T062659Z
UID:3880-1766071800-1766075400@parit.nadi.my
SUMMARY:DILEA Tuisyen Rakyat : Bahasa Melayu Ting 1 - 6
DESCRIPTION:
URL:https://parit.nadi.my/event/dilea-tuisyen-rakyat-bahasa-melayu-ting-1-6/
END:VEVENT
BEGIN:VEVENT
DTSTART;TZID=Asia/Kuala_Lumpur:20251218T150000
DTEND;TZID=Asia/Kuala_Lumpur:20251218T163000
DTSTAMP:20260426T052119
CREATED:20251218T062346Z
LAST-MODIFIED:20251218T062346Z
UID:3878-1766070000-1766075400@parit.nadi.my
SUMMARY:ANCAMAN KAMERA TERSEMBUNYI\, APA YANG PERLU ANDA TAHU SLOT 2
DESCRIPTION:
URL:https://parit.nadi.my/event/ancaman-kamera-tersembunyi-apa-yang-perlu-anda-tahu-slot-2/
END:VEVENT
BEGIN:VEVENT
DTSTART;TZID=Asia/Kuala_Lumpur:20251108T090000
DTEND;TZID=Asia/Kuala_Lumpur:20251109T180000
DTSTAMP:20260426T052119
CREATED:20251104T040029Z
LAST-MODIFIED:20251104T040029Z
UID:3833-1762592400-1762711200@parit.nadi.my
SUMMARY:PERTANDINGAN ESPORT PERINGKAT NEGERI
DESCRIPTION:
URL:https://parit.nadi.my/event/pertandingan-esport-peringkat-negeri/
END:VEVENT
BEGIN:VEVENT
DTSTART;TZID=Asia/Kuala_Lumpur:20251106T153000
DTEND;TZID=Asia/Kuala_Lumpur:20251106T163000
DTSTAMP:20260426T052119
CREATED:20251104T040338Z
LAST-MODIFIED:20251104T040338Z
UID:3838-1762443000-1762446600@parit.nadi.my
SUMMARY:OPEN TUITION BAHASA MELAYU TINGKATAN 1 - 5
DESCRIPTION:
URL:https://parit.nadi.my/event/open-tuition-bahasa-melayu-tingkatan-1-5/
END:VEVENT
BEGIN:VEVENT
DTSTART;TZID=Asia/Kuala_Lumpur:20251104T153000
DTEND;TZID=Asia/Kuala_Lumpur:20251104T163000
DTSTAMP:20260426T052119
CREATED:20251104T040251Z
LAST-MODIFIED:20251104T040251Z
UID:3836-1762270200-1762273800@parit.nadi.my
SUMMARY:OPEN TUITION BAHASA INGGERIS TINGKATAN 1 - 5
DESCRIPTION:
URL:https://parit.nadi.my/event/open-tuition-bahasa-inggeris-tingkatan-1-5/
END:VEVENT
BEGIN:VEVENT
DTSTART;TZID=Asia/Kuala_Lumpur:20251007T153000
DTEND;TZID=Asia/Kuala_Lumpur:20251007T163000
DTSTAMP:20260426T052119
CREATED:20251004T084830Z
LAST-MODIFIED:20251004T084830Z
UID:3802-1759851000-1759854600@parit.nadi.my
SUMMARY:OPEN TUITION BAHASA INGGERIS
DESCRIPTION:
URL:https://parit.nadi.my/event/open-tuition-bahasa-inggeris/
END:VEVENT
BEGIN:VEVENT
DTSTART;TZID=Asia/Kuala_Lumpur:20251007T140000
DTEND;TZID=Asia/Kuala_Lumpur:20251007T150000
DTSTAMP:20260426T052119
CREATED:20251004T085548Z
LAST-MODIFIED:20251004T085548Z
UID:3812-1759845600-1759849200@parit.nadi.my
SUMMARY:ASAS KOMUNIKASI VISUAL
DESCRIPTION:
URL:https://parit.nadi.my/event/asas-komunikasi-visual/
END:VEVENT
BEGIN:VEVENT
DTSTART;TZID=Asia/Kuala_Lumpur:20251007T100000
DTEND;TZID=Asia/Kuala_Lumpur:20251007T110000
DTSTAMP:20260426T052119
CREATED:20251004T085455Z
LAST-MODIFIED:20251004T085459Z
UID:3810-1759831200-1759834800@parit.nadi.my
SUMMARY:STRATEGI PEMASARAN DIGITAL
DESCRIPTION:
URL:https://parit.nadi.my/event/strategi-pemasaran-digital/
END:VEVENT
BEGIN:VEVENT
DTSTART;TZID=Asia/Kuala_Lumpur:20251007T093000
DTEND;TZID=Asia/Kuala_Lumpur:20251007T110000
DTSTAMP:20260426T052119
CREATED:20251004T085145Z
LAST-MODIFIED:20251004T085213Z
UID:3806-1759829400-1759834800@parit.nadi.my
SUMMARY:KELAS SHORT LEARNING SERIES (SLS) BANANA PUDING & PAJEON
DESCRIPTION:
URL:https://parit.nadi.my/event/kelas-short-learning-series-sls-banana-puding-pajeon/
END:VEVENT
BEGIN:VEVENT
DTSTART;TZID=Asia/Kuala_Lumpur:20251006T153000
DTEND;TZID=Asia/Kuala_Lumpur:20251006T163000
DTSTAMP:20260426T052119
CREATED:20250930T143546Z
LAST-MODIFIED:20250930T143546Z
UID:3692-1759764600-1759768200@parit.nadi.my
SUMMARY:OPEN TUITION MATEMATIK (TING 1-5)
DESCRIPTION:
URL:https://parit.nadi.my/event/open-tuition-matematik-ting-1-5/
LOCATION:NADI Parit\, NADI Parit
END:VEVENT
BEGIN:VEVENT
DTSTART;TZID=Asia/Kuala_Lumpur:20251004T143000
DTEND;TZID=Asia/Kuala_Lumpur:20251004T163000
DTSTAMP:20260426T052119
CREATED:20250930T143002Z
LAST-MODIFIED:20250930T143046Z
UID:3681-1759588200-1759595400@parit.nadi.my
SUMMARY:WEBINAR BERKALA BAHASA INGGERIS EDISI 5
DESCRIPTION:
URL:https://parit.nadi.my/event/webinar-berkala-bahasa-inggeris-edisi-5/
LOCATION:NADI Parit\, NADI Parit
END:VEVENT
BEGIN:VEVENT
DTSTART;TZID=Asia/Kuala_Lumpur:20251001T083000
DTEND;TZID=Asia/Kuala_Lumpur:20251001T100000
DTSTAMP:20260426T052119
CREATED:20250930T143345Z
LAST-MODIFIED:20250930T143345Z
UID:3687-1759307400-1759312800@parit.nadi.my
SUMMARY:BENGKEL KEMPEN INTERNET SELAMAT (KIS)
DESCRIPTION:
URL:https://parit.nadi.my/event/bengkel-kempen-internet-selamat-kis/
LOCATION:DEWAN SK TELOK PERANG
END:VEVENT
BEGIN:VEVENT
DTSTART;TZID=Asia/Kuala_Lumpur:20250627T080000
DTEND;TZID=Asia/Kuala_Lumpur:20250627T170000
DTSTAMP:20260426T052119
CREATED:20250601T023414Z
LAST-MODIFIED:20250601T023414Z
UID:3283-1751011200-1751043600@parit.nadi.my
SUMMARY:AWAL MUHARRAM (MAAL HIJRAH)
DESCRIPTION:
URL:https://parit.nadi.my/event/awal-muharram-maal-hijrah/
END:VEVENT
BEGIN:VEVENT
DTSTART;TZID=Asia/Kuala_Lumpur:20250621T110000
DTEND;TZID=Asia/Kuala_Lumpur:20250621T120000
DTSTAMP:20260426T052119
CREATED:20250601T010936Z
LAST-MODIFIED:20250601T010936Z
UID:3278-1750503600-1750507200@parit.nadi.my
SUMMARY:KELAS KOMUNITI MADANI
DESCRIPTION:
URL:https://parit.nadi.my/event/kelas-komuniti-madani/
END:VEVENT
BEGIN:VEVENT
DTSTART;TZID=Asia/Kuala_Lumpur:20250620T153000
DTEND;TZID=Asia/Kuala_Lumpur:20250620T163000
DTSTAMP:20260426T052119
CREATED:20250601T010308Z
LAST-MODIFIED:20250601T010308Z
UID:3275-1750433400-1750437000@parit.nadi.my
SUMMARY:LIVE CLASS TINGKATAN 4 - BAHASA INGGERIS
DESCRIPTION:
URL:https://parit.nadi.my/event/live-class-tingkatan-4-bahasa-inggeris/
END:VEVENT
BEGIN:VEVENT
DTSTART;TZID=Asia/Kuala_Lumpur:20250619T153000
DTEND;TZID=Asia/Kuala_Lumpur:20250619T163000
DTSTAMP:20260426T052119
CREATED:20250601T010231Z
LAST-MODIFIED:20250601T010231Z
UID:3273-1750347000-1750350600@parit.nadi.my
SUMMARY:LIVE CLASS TINGKATAN 4 - SEJARAH
DESCRIPTION:
URL:https://parit.nadi.my/event/live-class-tingkatan-4-sejarah/
END:VEVENT
BEGIN:VEVENT
DTSTART;TZID=Asia/Kuala_Lumpur:20250617T153000
DTEND;TZID=Asia/Kuala_Lumpur:20250617T163000
DTSTAMP:20260426T052119
CREATED:20250601T010131Z
LAST-MODIFIED:20250601T010131Z
UID:3271-1750174200-1750177800@parit.nadi.my
SUMMARY:LIVE CLASS TINGKATAN 4 - BAHASA MELAYU
DESCRIPTION:
URL:https://parit.nadi.my/event/live-class-tingkatan-4-bahasa-melayu/
END:VEVENT
BEGIN:VEVENT
DTSTART;TZID=Asia/Kuala_Lumpur:20250616T153000
DTEND;TZID=Asia/Kuala_Lumpur:20250616T163000
DTSTAMP:20260426T052119
CREATED:20250601T010035Z
LAST-MODIFIED:20250601T010035Z
UID:3269-1750087800-1750091400@parit.nadi.my
SUMMARY:LIVE CLASS TINGKATAN 4 - MATEMATIK
DESCRIPTION:
URL:https://parit.nadi.my/event/live-class-tingkatan-4-matematik/
END:VEVENT
BEGIN:VEVENT
DTSTART;TZID=Asia/Kuala_Lumpur:20250614T093000
DTEND;TZID=Asia/Kuala_Lumpur:20250614T163000
DTSTAMP:20260426T052119
CREATED:20250601T005928Z
LAST-MODIFIED:20250601T005928Z
UID:3267-1749893400-1749918600@parit.nadi.my
SUMMARY:LIVE CLASS DILEA TINGKATAN 5
DESCRIPTION:
URL:https://parit.nadi.my/event/live-class-dilea-tingkatan-5/
END:VEVENT
END:VCALENDAR